BEGIN:VCALENDAR
VERSION:2.0
PRODID:-//COHNA–ACIIST - ECPv6.15.20//NONSGML v1.0//EN
CALSCALE:GREGORIAN
METHOD:PUBLISH
X-WR-CALNAME:COHNA–ACIIST
X-ORIGINAL-URL:http://cohna-aciist.ca
X-WR-CALDESC:Events for COHNA–ACIIST
REFRESH-INTERVAL;VALUE=DURATION:PT1H
X-Robots-Tag:noindex
X-PUBLISHED-TTL:PT1H
BEGIN:VTIMEZONE
TZID:America/Toronto
BEGIN:DAYLIGHT
TZOFFSETFROM:-0500
TZOFFSETTO:-0400
TZNAME:EDT
DTSTART:20240310T070000
END:DAYLIGHT
BEGIN:STANDARD
TZOFFSETFROM:-0400
TZOFFSETTO:-0500
TZNAME:EST
DTSTART:20241103T060000
END:STANDARD
BEGIN:DAYLIGHT
TZOFFSETFROM:-0500
TZOFFSETTO:-0400
TZNAME:EDT
DTSTART:20250309T070000
END:DAYLIGHT
BEGIN:STANDARD
TZOFFSETFROM:-0400
TZOFFSETTO:-0500
TZNAME:EST
DTSTART:20251102T060000
END:STANDARD
BEGIN:DAYLIGHT
TZOFFSETFROM:-0500
TZOFFSETTO:-0400
TZNAME:EDT
DTSTART:20260308T070000
END:DAYLIGHT
BEGIN:STANDARD
TZOFFSETFROM:-0400
TZOFFSETTO:-0500
TZNAME:EST
DTSTART:20261101T060000
END:STANDARD
END:VTIMEZONE
BEGIN:VEVENT
DTSTART;TZID=America/Toronto:20250929T120000
DTEND;TZID=America/Toronto:20250929T160000
DTSTAMP:20260423T145359
CREATED:20250919T192102Z
LAST-MODIFIED:20250919T192102Z
UID:2608-1759147200-1759161600@cohna-aciist.ca
SUMMARY:Anti-Indigenous Racism Knowledge Sharing Event 2025 - Virtual
DESCRIPTION:When:  Sep 29\, 2025 from 12:00 to 16:00 (ET)\n\n\n\n\n\n\n\n\n\nThe First Anti-Indigenous Racism Knowledge Sharing Event is a groundbreaking initiative aimed at addressing anti-Indigenous racism within the health-care system. This virtual event will bring together health-care professionals\, policy-makers and community leaders to share knowledge\, experiences and strategies to create a more equitable and culturally safe health-care environment. \nRegistration is currently open to CNA members and the public. Please sign in or create a CNA account to register for this event. Once signed in\, a Register button will appear with the event description. \nNote: you will need to sign in or create a free CNA account\, but CNA membership is not required. \nSpace is limited\, so register early! \nRead the full event details\, including agenda and speakers
URL:http://cohna-aciist.ca/event/anti-indigenous-racism-knowledge-sharing-event-2025-virtual/
LOCATION:Virtual
END:VEVENT
END:VCALENDAR