BEGIN:VCALENDAR
VERSION:2.0
PRODID:-//COHNA–ACIIST - ECPv6.15.20//NONSGML v1.0//EN
CALSCALE:GREGORIAN
METHOD:PUBLISH
X-ORIGINAL-URL:http://cohna-aciist.ca
X-WR-CALDESC:Events for COHNA–ACIIST
REFRESH-INTERVAL;VALUE=DURATION:PT1H
X-Robots-Tag:noindex
X-PUBLISHED-TTL:PT1H
BEGIN:VTIMEZONE
TZID:UTC
BEGIN:STANDARD
TZOFFSETFROM:+0000
TZOFFSETTO:+0000
TZNAME:UTC
DTSTART:20250101T000000
END:STANDARD
END:VTIMEZONE
BEGIN:VEVENT
DTSTART;VALUE=DATE:20261004
DTEND;VALUE=DATE:20261007
DTSTAMP:20260420T150143
CREATED:20260129T175005Z
LAST-MODIFIED:20260129T175250Z
UID:2732-1791072000-1791331199@cohna-aciist.ca
SUMMARY:Save The Date! OEMAC-CBOM Annual Conference October 4-6 in New Brunswick
DESCRIPTION:We will be holding our conference in Saint John\, New Brunswick on October 4-6\, 2026.  \nWe are excited to come together in-person once again to network\, learn\, foster collaboration\, and showcase the support\, ideas and innovations of our sponsors and exhibitors!
URL:http://cohna-aciist.ca/event/save-the-date-oemac-cbom-annual-conference/
LOCATION:Ontario
END:VEVENT
END:VCALENDAR