BEGIN:VCALENDAR
VERSION:2.0
PRODID:-//COHNA–ACIIST - ECPv6.15.20//NONSGML v1.0//EN
CALSCALE:GREGORIAN
METHOD:PUBLISH
X-WR-CALNAME:COHNA–ACIIST
X-ORIGINAL-URL:http://cohna-aciist.ca
X-WR-CALDESC:Events for COHNA–ACIIST
REFRESH-INTERVAL;VALUE=DURATION:PT1H
X-Robots-Tag:noindex
X-PUBLISHED-TTL:PT1H
BEGIN:VTIMEZONE
TZID:America/Toronto
BEGIN:DAYLIGHT
TZOFFSETFROM:-0500
TZOFFSETTO:-0400
TZNAME:EDT
DTSTART:20240310T070000
END:DAYLIGHT
BEGIN:STANDARD
TZOFFSETFROM:-0400
TZOFFSETTO:-0500
TZNAME:EST
DTSTART:20241103T060000
END:STANDARD
BEGIN:DAYLIGHT
TZOFFSETFROM:-0500
TZOFFSETTO:-0400
TZNAME:EDT
DTSTART:20250309T070000
END:DAYLIGHT
BEGIN:STANDARD
TZOFFSETFROM:-0400
TZOFFSETTO:-0500
TZNAME:EST
DTSTART:20251102T060000
END:STANDARD
BEGIN:DAYLIGHT
TZOFFSETFROM:-0500
TZOFFSETTO:-0400
TZNAME:EDT
DTSTART:20260308T070000
END:DAYLIGHT
BEGIN:STANDARD
TZOFFSETFROM:-0400
TZOFFSETTO:-0500
TZNAME:EST
DTSTART:20261101T060000
END:STANDARD
END:VTIMEZONE
BEGIN:VTIMEZONE
TZID:America/St_Johns
BEGIN:DAYLIGHT
TZOFFSETFROM:-0330
TZOFFSETTO:-0230
TZNAME:NDT
DTSTART:20240310T053000
END:DAYLIGHT
BEGIN:STANDARD
TZOFFSETFROM:-0230
TZOFFSETTO:-0330
TZNAME:NST
DTSTART:20241103T043000
END:STANDARD
BEGIN:DAYLIGHT
TZOFFSETFROM:-0330
TZOFFSETTO:-0230
TZNAME:NDT
DTSTART:20250309T053000
END:DAYLIGHT
BEGIN:STANDARD
TZOFFSETFROM:-0230
TZOFFSETTO:-0330
TZNAME:NST
DTSTART:20251102T043000
END:STANDARD
BEGIN:DAYLIGHT
TZOFFSETFROM:-0330
TZOFFSETTO:-0230
TZNAME:NDT
DTSTART:20260308T053000
END:DAYLIGHT
BEGIN:STANDARD
TZOFFSETFROM:-0230
TZOFFSETTO:-0330
TZNAME:NST
DTSTART:20261101T043000
END:STANDARD
END:VTIMEZONE
BEGIN:VEVENT
DTSTART;TZID=America/Toronto:20251120T130000
DTEND;TZID=America/Toronto:20251120T140000
DTSTAMP:20260423T115042
CREATED:20251021T000153Z
LAST-MODIFIED:20251021T000153Z
UID:2656-1763643600-1763647200@cohna-aciist.ca
SUMMARY:FREE! CQI webinar: Driving Medication Safety in Community Pharmacies Through Continuous Quality Improvement
DESCRIPTION:ISMP Canada\, a not-for-profit national organization committed to improving medication safety\, is offering a range of learning opportunities that may be of interest to your members\, including pharmacists\, technicians\, nurses\, physicians\, and other health care professionals. \nWe’re also pleased to include a free eLearning module on Just Culture\, accessible to all. \nFREE! CQI webinar: Driving Medication Safety in Community Pharmacies Through Continuous Quality Improvement \nISMP Canada is pleased to partner with The Value Collaborative to leverage the learning from the successful Strengthening Medication Safety in Long Term Care Ontario program and provide this new free webinar. \nThis 60 minute webinar will support you in creating a culture of continuous quality improvement (CQI) and share tools to empower staff to make improvements in their everyday processes. As demand for your services increase\, the importance of identifying and addressing local opportunities for improvement becomes more important. \nJoin us on November 20\, 2025 (1:00 pm to 2:00 pm EST) to learn about a new CQI program designed for community pharmacies across Canada! \nLearning Objectives \n\nDescribe key concepts like Lean\, Six Sigma\, and Continuous Quality Improvement (CQI)\nExplain problem-solving approaches tailored to pharmacy environments through real-world case studies\nExplain the essential components to building a culture of CQI within your pharmacy\nDiscuss options to enhance your knowledge further and lead your team to success\n\nFor more information\, contact us at education@ismpcanada.ca. \nRegister Now! \nISMP Canada\, in collaboration with the Health Quality Council of Alberta (HQCA)\, is pleased to share a new free eLearning module that introduces the core concepts of just culture for all health care staff. To access the module\, please visit https://ismpcanada.ca/education/#online
URL:http://cohna-aciist.ca/event/free-cqi-webinar-driving-medication-safety-in-community-pharmacies-through-continuous-quality-improvement/
LOCATION:AB
END:VEVENT
BEGIN:VEVENT
DTSTART;TZID=America/St_Johns:20251126T150000
DTEND;TZID=America/St_Johns:20251126T160000
DTSTAMP:20260423T115042
CREATED:20251111T204958Z
LAST-MODIFIED:20251111T205123Z
UID:2705-1764169200-1764172800@cohna-aciist.ca
SUMMARY:Webinar: Navigating Substance Use Disorder in the Workplace – Practical Advice for Occupational Health Nurses
DESCRIPTION:Wednesday\, November 26\, 15:00-16:00 NST\nwith Frank Martin \nDespite the growing acknowledgement of the impact of mental health in the workplace\, Substance Use Disorder (SUD) tends to draw the most attention due to real and perceived safety risk. \nAs an Occupational Health Nurse\, how do you understand and navigate the company policy\, safety\, legal\, privacy and human rights factors and still put the employee first? Frank Martin will share his experiences and offer practical advice on how to ensure the OHN can lead the business approach. \nTo register: \n\nGo to https://cohna-aciist.ca/blog/navigating-sud-in-the-workplace/\nComplete and submit the registration form and remit your payment.\n\nFee: $20 Members\, $30 Non-Members \n  \nFrank Martin is a registered Occupational Health Nurse who has been involved in the Energy Sector for over 30 years. Frank has worked in rotational roles providing direct worker care and emergency response team management. \nHe has worked in many settings and organizational levels with major Oil and Gas producers and has worked to develop practical and knowledge based Occupational Health Programs. Frank has worked on various industry committees related to impairment in the workplace including the COAA “Canadian model” and the CSA workplace impairment standard. Frank currently works in an Occupational Health leadership role with a major Canadian-American Energy and Utilities Company. \n 
URL:http://cohna-aciist.ca/event/webinar-navigating-substance-use-disorder-in-the-workplace-practical-advice-for-occupational-health-nurses/
LOCATION:AB
ORGANIZER;CN="Canadian Occupational Health Nurses Association":MAILTO:info@cohna-aciist.ca
END:VEVENT
END:VCALENDAR